BEGIN:VCALENDAR
VERSION:2.0
PRODID:-//Plone.org//NONSGML plone.app.event//EN
X-WR-TIMEZONE:Europe/Madrid
BEGIN:VEVENT
SUMMARY:Convocatòria de la Comissió paritària
DTSTART;TZID=Europe/Madrid;VALUE=DATE-TIME:20241024T130000
DTEND;TZID=Europe/Madrid;VALUE=DATE-TIME:20241024T140000
DTSTAMP;VALUE=DATE-TIME:20260421T102730Z
UID:62fa1f1c5c0246fafce0d735c5179ef5
CREATED;VALUE=DATE-TIME:20241024T000000Z
CATEGORIES:Agenda institucional
LOCATION:Sala de plens de l'Ajuntament - Plaça de la Vila, 1
DESCRIPTION:Hi assistirà la regidora de Promoció Econòmica, Empresa, Comerç, Turisme i Consum i Recursos Humans, Annabel Martínez
URL:https://ajllavaneres.cat/document.php?id=22306
END:VEVENT
END:VCALENDAR