BEGIN:VCALENDAR
VERSION:2.0
PRODID:-//Plone.org//NONSGML plone.app.event//EN
X-WR-TIMEZONE:Europe/Madrid
BEGIN:VEVENT
SUMMARY:Reunió: coordinació activitats de Nadal
DTSTART;TZID=Europe/Madrid;VALUE=DATE-TIME:20241024T120000
DTEND;TZID=Europe/Madrid;VALUE=DATE-TIME:20241024T130000
DTSTAMP;VALUE=DATE-TIME:20260420T003913Z
UID:36993fec5c17e254e4e534ff2aec2cd7
CREATED;VALUE=DATE-TIME:20241024T000000Z
CATEGORIES:Agenda institucional
LOCATION:Sala de juntes - Plaça de la Vila, 1
DESCRIPTION:Hi assistiran els regidors de Promoció Econòmica, Empresa, Comerç, Turisme i Consum, Annabel Martínez; i de Cultura i Festes, Joan Arnau
URL:https://ajllavaneres.cat/document.php?id=22307
END:VEVENT
END:VCALENDAR