BEGIN:VCALENDAR
VERSION:2.0
PRODID:-//Plone.org//NONSGML plone.app.event//EN
X-WR-TIMEZONE:Europe/Madrid
BEGIN:VEVENT
SUMMARY:Convocatòria de la Comissió de quotes del Consorci
DTSTART;TZID=Europe/Madrid;VALUE=DATE-TIME:20241024T093000
DTEND;TZID=Europe/Madrid;VALUE=DATE-TIME:20241024T103000
DTSTAMP;VALUE=DATE-TIME:20260420T101414Z
UID:b671b5134b489ab70ec1864142b305a5
CREATED;VALUE=DATE-TIME:20241024T000000Z
CATEGORIES:Agenda institucional
LOCATION:Sessió telemàtica
DESCRIPTION:Hi assistirà la regidora de Promoció, Empresa, Comerç, Turisme i Consum, Annabel Martínez
URL:https://ajllavaneres.cat/document.php?id=22308
END:VEVENT
END:VCALENDAR