BEGIN:VCALENDAR
VERSION:2.0
PRODID:-//Plone.org//NONSGML plone.app.event//EN
X-WR-TIMEZONE:Europe/Madrid
BEGIN:VEVENT
SUMMARY:Reunió setmanal: Promoció Econòmica
DTSTART;TZID=Europe/Madrid;VALUE=DATE-TIME:20241025T120000
DTEND;TZID=Europe/Madrid;VALUE=DATE-TIME:20241025T130000
DTSTAMP;VALUE=DATE-TIME:20260422T133251Z
UID:69dbe211d68ba30f1adc4b62d4111f60
CREATED;VALUE=DATE-TIME:20241025T000000Z
CATEGORIES:Agenda institucional
LOCATION:Ca l'Alfaro - Passeig de la Mare de Déu de Montserrat, 27-33
DESCRIPTION:Hi assistirà la regidora de Promoció Econòmica, Empresa, Comerç, Turisme i Consum, Annabel Martínez
URL:https://ajllavaneres.cat/document.php?id=22330
END:VEVENT
END:VCALENDAR