BEGIN:VCALENDAR
VERSION:2.0
PRODID:-//Plone.org//NONSGML plone.app.event//EN
X-WR-TIMEZONE:Europe/Madrid
BEGIN:VEVENT
SUMMARY:Audició d'alumnes de corda de l'EMM Llavaneres
DTSTART;TZID=Europe/Madrid;VALUE=DATE-TIME:20241219T183000
DTEND;TZID=Europe/Madrid;VALUE=DATE-TIME:20241219T193000
DTSTAMP;VALUE=DATE-TIME:20260419T173413Z
UID:e2d520c88b0712d885107658e77674c7
CREATED;VALUE=DATE-TIME:20241219T000000Z
CATEGORIES:Mostra,Música,Agenda E.M.M.
LOCATION:Sala polivalent de Ca l'Alfaro - Passeig de la Mare de Déu de Montserrat, 27-33
ORGANIZER:Escola Municipal de Música Llavaneres
COMMENT:Preu: Gratuït
Durada: 45 minuts
URL:https://ajllavaneres.cat/document.php?id=22437
END:VEVENT
END:VCALENDAR