BEGIN:VCALENDAR
VERSION:2.0
PRODID:-//Plone.org//NONSGML plone.app.event//EN
X-WR-TIMEZONE:Europe/Madrid
BEGIN:VEVENT
SUMMARY:Concert de Nadales i Conte de Nadal!
DTSTART;TZID=Europe/Madrid;VALUE=DATE-TIME:20241214T110000
DTEND;TZID=Europe/Madrid;VALUE=DATE-TIME:20241214T120000
DTSTAMP;VALUE=DATE-TIME:20260419T233224Z
UID:0a2e643f48f8a7f057e80fafe089549b
CREATED;VALUE=DATE-TIME:20241214T000000Z
CATEGORIES:Infantils,Música
LOCATION:Sala d'actes de la Biblioteca Font i Daniel - Clòsens, 65
ORGANIZER:Regidoria de Cultura; Biblioteca Municipal Font i Daniel; Escola Municipal de Música
COMMENT:Preu: Gratuït
Durada: 1 h 30 min
URL:https://ajllavaneres.cat/document.php?id=22460
END:VEVENT
END:VCALENDAR