BEGIN:VCALENDAR
VERSION:2.0
PRODID:-//Plone.org//NONSGML plone.app.event//EN
X-WR-TIMEZONE:Europe/Madrid
BEGIN:VEVENT
SUMMARY:Bola de neu gegant
DTSTART;TZID=Europe/Madrid;VALUE=DATE-TIME:20241215T173000
DTEND;TZID=Europe/Madrid;VALUE=DATE-TIME:20241215T183000
DTSTAMP;VALUE=DATE-TIME:20260422T174606Z
UID:72d84050365cc7bdc13a208f3a92c068
CREATED;VALUE=DATE-TIME:20241214T000000Z
LOCATION:Parc de Ca l'Alfaro, Sant Pere o Ametllareda
ORGANIZER:Regidoria de Promoció Econòmica, Empresa, Comerç, Turisme i Consum
COMMENT:Durada: De 17.30 a 19.30 h
URL:https://ajllavaneres.cat/document.php?id=22488
END:VEVENT
END:VCALENDAR