BEGIN:VCALENDAR
VERSION:2.0
PRODID:-//Plone.org//NONSGML plone.app.event//EN
X-WR-TIMEZONE:Europe/Madrid
BEGIN:VEVENT
SUMMARY:Tarda de jocs
DTSTART;TZID=Europe/Madrid;VALUE=DATE-TIME:20250227T173000
DTEND;TZID=Europe/Madrid;VALUE=DATE-TIME:20250227T183000
DTSTAMP;VALUE=DATE-TIME:20260420T015227Z
UID:5d204eeb26094ad8b832fbe5b5a87798
CREATED;VALUE=DATE-TIME:20250227T000000Z
CATEGORIES:Festa,Reunió,Trobada
LOCATION:Casal Jove - Passeig Mare de Deu de Montserrat, 45
ORGANIZER:Casal Jove. Regidoria de Joventut.
COMMENT:Preu: gratuït
Durada: 2 hores
DESCRIPTION:Veniu a compartir la tarda al casal jugant a jocs de taula!
URL:https://ajllavaneres.cat/document.php?id=22746
END:VEVENT
END:VCALENDAR