BEGIN:VCALENDAR
VERSION:2.0
PRODID:-//Plone.org//NONSGML plone.app.event//EN
X-WR-TIMEZONE:Europe/Madrid
BEGIN:VEVENT
SUMMARY:L'hora del conte
DTSTART;TZID=Europe/Madrid;VALUE=DATE-TIME:20071020T120000
DTEND;TZID=Europe/Madrid;VALUE=DATE-TIME:20071020T130000
DTSTAMP;VALUE=DATE-TIME:20260421T101630Z
UID:e4f798fff495203c96a69162c7c459f6
CREATED;VALUE=DATE-TIME:20071020T000000Z
CATEGORIES:Literatura,Infantils
LOCATION:Sala infantil de la Biblioteca Municipal
ORGANIZER:Biblioteca Municipal
DESCRIPTION:"Sopa de pedres", amb la rondallaire Sole Palau
URL:https://ajllavaneres.cat/document.php?id=228
END:VEVENT
END:VCALENDAR