BEGIN:VCALENDAR
VERSION:2.0
PRODID:-//Plone.org//NONSGML plone.app.event//EN
X-WR-TIMEZONE:Europe/Madrid
BEGIN:VEVENT
SUMMARY:Hora del Conte: 'Història d'un jardí'
DTSTART;TZID=Europe/Madrid;VALUE=DATE-TIME:20250315T110000
DTEND;TZID=Europe/Madrid;VALUE=DATE-TIME:20250315T120000
DTSTAMP;VALUE=DATE-TIME:20260421T124736Z
UID:87a1442c1e3c9dbcdb985a2df14b5740
CREATED;VALUE=DATE-TIME:20250315T000000Z
CATEGORIES:Infantils
LOCATION:Sala infantil de la Biblioteca Font i Daniel - Clòsens, 65
ORGANIZER:Regidoria de Cultura ; Biblioteca Municipal Font i Daniel
COMMENT:Preu: Gratuït
Durada: 1 hora
DESCRIPTION:A càrrec de la rondallaire Eva Gonzàlez
URL:https://ajllavaneres.cat/document.php?id=22822
END:VEVENT
END:VCALENDAR