BEGIN:VCALENDAR
VERSION:2.0
PRODID:-//Plone.org//NONSGML plone.app.event//EN
X-WR-TIMEZONE:Europe/Madrid
BEGIN:VEVENT
SUMMARY:Taller de punts de llibre Sant Jordi 2025
DTSTART;TZID=Europe/Madrid;VALUE=DATE-TIME:20250423T173000
DTEND;TZID=Europe/Madrid;VALUE=DATE-TIME:20250423T183000
DTSTAMP;VALUE=DATE-TIME:20260424T203833Z
UID:005740599607eeb60a13519e23bc0bd2
CREATED;VALUE=DATE-TIME:20250423T000000Z
CATEGORIES:Taller
LOCATION:Sala d'actes de la Biblioteca Font i Daniel - Clòsens, 65
ORGANIZER:Regidoria de Cultura; Biblioteca Municipal Font i Daniel
COMMENT:Preu: Gratuït
Durada: 1 h 30 min
DESCRIPTION:A càrrec d'Imma Dorda
URL:https://ajllavaneres.cat/document.php?id=22823
END:VEVENT
END:VCALENDAR