BEGIN:VCALENDAR
VERSION:2.0
PRODID:-//Plone.org//NONSGML plone.app.event//EN
X-WR-TIMEZONE:Europe/Madrid
BEGIN:VEVENT
SUMMARY:Curs en línia: 'Què podem fer davant les violències masclistes?'
DTSTART;TZID=Europe/Madrid;VALUE=DATE-TIME:20250225T140000
DTEND;TZID=Europe/Madrid;VALUE=DATE-TIME:20250225T150000
DTSTAMP;VALUE=DATE-TIME:20260419T184510Z
UID:c1527b195588245dcd00b115fdf66c18
CREATED;VALUE=DATE-TIME:20250225T000000Z
CATEGORIES:Cursos
LOCATION:Sessió telemàtica
ORGANIZER:Regidoria d'Igualtat
COMMENT:Preu: gratuït
Durada: de 14 a 16 h
DESCRIPTION:Per a establimests adherits a la Xarxa d'Espais Segurs de Les 3 Viles
URL:https://ajllavaneres.cat/document.php?id=22865
END:VEVENT
END:VCALENDAR