BEGIN:VCALENDAR
VERSION:2.0
PRODID:-//Plone.org//NONSGML plone.app.event//EN
X-WR-TIMEZONE:Europe/Madrid
BEGIN:VEVENT
SUMMARY:'Escape room' de temàtica feminista
DTSTART;TZID=Europe/Madrid;VALUE=DATE-TIME:20250305T000000
DTEND;TZID=Europe/Madrid;VALUE=DATE-TIME:20250305T010000
DTSTAMP;VALUE=DATE-TIME:20260421T022053Z
UID:d6adea8e267448aa75dafa912b52a822
CREATED;VALUE=DATE-TIME:20250305T000000Z
CATEGORIES:Taller
LOCATION:Institut Llavaneres
ORGANIZER:Regidoria d'Igualtat amb la col·laboració de la Diputació de Barcelona
DESCRIPTION:Per a l'alumnat de 2n d'ESO
URL:https://ajllavaneres.cat/document.php?id=22885
END:VEVENT
END:VCALENDAR