BEGIN:VCALENDAR
VERSION:2.0
PRODID:-//Plone.org//NONSGML plone.app.event//EN
X-WR-TIMEZONE:Europe/Madrid
BEGIN:VEVENT
SUMMARY:Carnaval al Casal de la Gent Gran
DTSTART;TZID=Europe/Madrid;VALUE=DATE-TIME:20250302T173000
DTEND;TZID=Europe/Madrid;VALUE=DATE-TIME:20250302T183000
DTSTAMP;VALUE=DATE-TIME:20260419T163738Z
UID:eebb6bf418c7cf1478f5341f2a00290b
CREATED;VALUE=DATE-TIME:20250302T000000Z
CATEGORIES:Festa
LOCATION:Casal de la Gent Gran - Passeig de la Mare de Déu de Montserrat, 45
ORGANIZER:Associació del Casal de la Gent Gran
COMMENT:Preu: 12 &euro; socis i 16 &euro; no socis
Durada: 3 h
DESCRIPTION:Berenar i ball
URL:https://ajllavaneres.cat/document.php?id=22892
END:VEVENT
END:VCALENDAR