BEGIN:VCALENDAR
VERSION:2.0
PRODID:-//Plone.org//NONSGML plone.app.event//EN
X-WR-TIMEZONE:Europe/Madrid
BEGIN:VEVENT
SUMMARY:Marxa popular solidària
DTSTART;TZID=Europe/Madrid;VALUE=DATE-TIME:20250302T090000
DTEND;TZID=Europe/Madrid;VALUE=DATE-TIME:20250302T100000
DTSTAMP;VALUE=DATE-TIME:20260419T154455Z
UID:b15689a6a49d32dec587424ce72f236d
CREATED;VALUE=DATE-TIME:20250302T000000Z
CATEGORIES:Esports
LOCATION:Pati d'El Casal de Llavaneres - Avinguda de Catalunya, 56
COMMENT:Preu: 10 &euro;
DESCRIPTION:Dia Internacional de la Dona
URL:https://ajllavaneres.cat/document.php?id=22912
END:VEVENT
END:VCALENDAR