BEGIN:VCALENDAR
VERSION:2.0
PRODID:-//Plone.org//NONSGML plone.app.event//EN
X-WR-TIMEZONE:Europe/Madrid
BEGIN:VEVENT
SUMMARY:Cinefòrum 'Chicago: El Musical'
DTSTART;TZID=Europe/Madrid;VALUE=DATE-TIME:20250328T170000
DTEND;TZID=Europe/Madrid;VALUE=DATE-TIME:20250328T180000
DTSTAMP;VALUE=DATE-TIME:20260422T144624Z
UID:16044b15d918d17eb2765cd59973a396
CREATED;VALUE=DATE-TIME:20250328T000000Z
CATEGORIES:Reunió,Trobada
LOCATION:Casal Jove - Passeig Mare de Deu de Montserrat, 45
ORGANIZER:Casal Jove. Regidoria de Joventut.
COMMENT:Preu: gratuït
Durada: 2 hores
DESCRIPTION:Reflexions feministes per al 8M
URL:https://ajllavaneres.cat/document.php?id=22916
END:VEVENT
END:VCALENDAR