BEGIN:VCALENDAR
VERSION:2.0
PRODID:-//Plone.org//NONSGML plone.app.event//EN
X-WR-TIMEZONE:Europe/Madrid
BEGIN:VEVENT
SUMMARY:BiblioLab: Modelat Bàsic per a Impressió 3D
DTSTART;TZID=Europe/Madrid;VALUE=DATE-TIME:20250405T110000
DTEND;TZID=Europe/Madrid;VALUE=DATE-TIME:20250405T120000
DTSTAMP;VALUE=DATE-TIME:20260425T012443Z
UID:fb4771f2d4cb96929316767066623749
CREATED;VALUE=DATE-TIME:20250405T000000Z
CATEGORIES:Infantils,Taller
LOCATION:Sala d'actes de la Biblioteca Font i Daniel - Clòsens, 65
ORGANIZER:Biblioteca Municipal Font i Daniel; Diputació de Barcelona; Regidoria de Cultura; TecnoCampus
COMMENT:Preu: Gratuït
DESCRIPTION:A càrrec de TecnoCampus
URL:https://ajllavaneres.cat/document.php?id=22939
END:VEVENT
END:VCALENDAR