BEGIN:VCALENDAR
VERSION:2.0
PRODID:-//Plone.org//NONSGML plone.app.event//EN
X-WR-TIMEZONE:Europe/Madrid
BEGIN:VEVENT
SUMMARY:Tria final del Pressupost Participatiu 2025
DTSTART;TZID=Europe/Madrid;VALUE=DATE-TIME:20250227T180000
DTEND;TZID=Europe/Madrid;VALUE=DATE-TIME:20250227T190000
DTSTAMP;VALUE=DATE-TIME:20260420T003727Z
UID:7512fcf2429380096816d09ea02ab6c2
CREATED;VALUE=DATE-TIME:20250227T000000Z
CATEGORIES:Procés participatiu
LOCATION:Bar de la zona esportiva municipal
COMMENT:Durada: Fins a les 20 hores.
DESCRIPTION:Vine i t'ajudem a emplenar el formulari per a la votació dels projectes finalistes
URL:https://ajllavaneres.cat/document.php?id=22942
END:VEVENT
END:VCALENDAR