BEGIN:VCALENDAR
VERSION:2.0
PRODID:-//Plone.org//NONSGML plone.app.event//EN
X-WR-TIMEZONE:Europe/Madrid
BEGIN:VEVENT
SUMMARY:Sortida al teatre Apolo de Barcelona
DTSTART;TZID=Europe/Madrid;VALUE=DATE-TIME:20071026T203000
DTEND;TZID=Europe/Madrid;VALUE=DATE-TIME:20071026T213000
DTSTAMP;VALUE=DATE-TIME:20260420T092444Z
UID:05608f05af8412a11e9af02ee4f70389
CREATED;VALUE=DATE-TIME:20071026T000000Z
LOCATION:Pg. Jaume Brutau, davant del CAP
ORGANIZER:Regidoria de Cultura
COMMENT:Preu: Entrada i bus: 55 &euro;
DESCRIPTION:Per veure Cabaret
URL:https://ajllavaneres.cat/document.php?id=230
END:VEVENT
END:VCALENDAR