BEGIN:VCALENDAR
VERSION:2.0
PRODID:-//Plone.org//NONSGML plone.app.event//EN
X-WR-TIMEZONE:Europe/Madrid
BEGIN:VEVENT
SUMMARY:Dia Mundial de l'Activitat Física
DTSTART;TZID=Europe/Madrid;VALUE=DATE-TIME:20250406T103000
DTEND;TZID=Europe/Madrid;VALUE=DATE-TIME:20250406T113000
DTSTAMP;VALUE=DATE-TIME:20260425T012920Z
UID:6fdd5fd5897bf1c70215750c33eed9ec
CREATED;VALUE=DATE-TIME:20250406T000000Z
CATEGORIES:Esports
LOCATION:Parc de Sant Pere - Passeig de la Riera, s/n
ORGANIZER:Regidoria d'Esports
COMMENT:Preu: Gratuït
Durada: Fins 13.30 h.
DESCRIPTION:Jornada esportiva per a tothom
URL:https://ajllavaneres.cat/document.php?id=23001
END:VEVENT
END:VCALENDAR