BEGIN:VCALENDAR
VERSION:2.0
PRODID:-//Plone.org//NONSGML plone.app.event//EN
X-WR-TIMEZONE:Europe/Madrid
BEGIN:VEVENT
SUMMARY:Lectoescriptura des del bressol
DTSTART;TZID=Europe/Madrid;VALUE=DATE-TIME:20250408T183000
DTEND;TZID=Europe/Madrid;VALUE=DATE-TIME:20250408T193000
DTSTAMP;VALUE=DATE-TIME:20260425T030103Z
UID:b64c39c45c824a934bedad60f7670622
CREATED;VALUE=DATE-TIME:20250408T000000Z
CATEGORIES:Taller
LOCATION:Sala d'actes de la Biblioteca Font i Daniel - Clòsens, 65
ORGANIZER:Regidoria de Cultura ; Biblioteca Municipal Font i Daniel
COMMENT:Preu: Gratuït
Durada: 1 h 30 min
DESCRIPTION:A càrrec de Gaby Veghazi, professora d'Educació Infantil i Montessori
URL:https://ajllavaneres.cat/document.php?id=23044
END:VEVENT
END:VCALENDAR