BEGIN:VCALENDAR
VERSION:2.0
PRODID:-//Plone.org//NONSGML plone.app.event//EN
X-WR-TIMEZONE:Europe/Madrid
BEGIN:VEVENT
SUMMARY:'Aquaxef sostenible'
DTSTART;TZID=Europe/Madrid;VALUE=DATE-TIME:20250329T180000
DTEND;TZID=Europe/Madrid;VALUE=DATE-TIME:20250329T190000
DTSTAMP;VALUE=DATE-TIME:20260419T140308Z
UID:07d29916b12b15867fee3cc430f5530b
CREATED;VALUE=DATE-TIME:20250329T000000Z
CATEGORIES:Mostra,Festa,Infantils,Fira
LOCATION:Parc de Ca l'Alfaro - Passeig de la Mare de Déu de Montserrat, 27-33
ORGANIZER:PETIT XEF
COMMENT:Preu: Gratuït
Durada: Fins a les 19.30 h
DESCRIPTION:Cuina sostenible per a infants de 4 a 12 anys
URL:https://ajllavaneres.cat/document.php?id=23062
END:VEVENT
END:VCALENDAR