BEGIN:VCALENDAR
VERSION:2.0
PRODID:-//Plone.org//NONSGML plone.app.event//EN
X-WR-TIMEZONE:Europe/Madrid
BEGIN:VEVENT
SUMMARY:Projecció: 'El fantasma de l'òpera'
DTSTART;TZID=Europe/Madrid;VALUE=DATE-TIME:20250423T200000
DTEND;TZID=Europe/Madrid;VALUE=DATE-TIME:20250423T210000
DTSTAMP;VALUE=DATE-TIME:20260424T190829Z
UID:cca1c16418bfd4763b1a6e213a483a9b
CREATED;VALUE=DATE-TIME:20250423T000000Z
CATEGORIES:Música
LOCATION:El Casal de Llavaneres (sala de lectura Sunsi Móra) - Avinguda de Catalunya, 56
ORGANIZER:Secció de Cultura d'El Casal
COMMENT:Preu: Entrada voluntària
Durada: 3 h.
DESCRIPTION:Cicle 'Sant Jordi; Enamora't'
URL:https://ajllavaneres.cat/document.php?id=23065
END:VEVENT
END:VCALENDAR