BEGIN:VCALENDAR
VERSION:2.0
PRODID:-//Plone.org//NONSGML plone.app.event//EN
X-WR-TIMEZONE:Europe/Madrid
BEGIN:VEVENT
SUMMARY:Veredicte i lliurament de premis de la Mostra Literària 2025
DTSTART;TZID=Europe/Madrid;VALUE=DATE-TIME:20250423T000000
DTEND;TZID=Europe/Madrid;VALUE=DATE-TIME:20250423T010000
DTSTAMP;VALUE=DATE-TIME:20260424T203952Z
UID:773fbe214a093e2c89f79b9df4d81b25
CREATED;VALUE=DATE-TIME:20250423T000000Z
LOCATION:Plaça de la Vila - Plaça de la Vila, 1
ORGANIZER:Regidoria de Cultura
URL:https://ajllavaneres.cat/document.php?id=23071
END:VEVENT
END:VCALENDAR