BEGIN:VCALENDAR
VERSION:2.0
PRODID:-//Plone.org//NONSGML plone.app.event//EN
X-WR-TIMEZONE:Europe/Madrid
BEGIN:VEVENT
SUMMARY:Presentació de la monografia: 'Una Guerra Solidària'
DTSTART;TZID=Europe/Madrid;VALUE=DATE-TIME:20250426T120000
DTEND;TZID=Europe/Madrid;VALUE=DATE-TIME:20250426T130000
DTSTAMP;VALUE=DATE-TIME:20260424T203816Z
UID:12ede85c421e4e0ed9d227394cbce04f
CREATED;VALUE=DATE-TIME:20250426T000000Z
CATEGORIES:Literatura
LOCATION:Sala d'actes de la Biblioteca Font i Daniel - Clòsens, 65
ORGANIZER:Consell Comarcal de Maresme i Regidoria de Cultura
DESCRIPTION:Refugiats de la Guerra Civil al Maresme Central. A càrrec de Glòria Campoy i Marc Mas
URL:https://ajllavaneres.cat/document.php?id=23072
END:VEVENT
END:VCALENDAR