BEGIN:VCALENDAR
VERSION:2.0
PRODID:-//Plone.org//NONSGML plone.app.event//EN
X-WR-TIMEZONE:Europe/Madrid
BEGIN:VEVENT
SUMMARY:Teatre: 'Ja tenim minyona'
DTSTART;TZID=Europe/Madrid;VALUE=DATE-TIME:20250406T180000
DTEND;TZID=Europe/Madrid;VALUE=DATE-TIME:20250406T190000
DTSTAMP;VALUE=DATE-TIME:20260425T025923Z
UID:e6e2a043970a38e073195fb9f90ca834
CREATED;VALUE=DATE-TIME:20250406T000000Z
CATEGORIES:Teatre
LOCATION:Sala Polivalent d'El Casal de Llavaneres - Avinguda de Catalunya, 56
ORGANIZER:Companyia Inestable de Teatre de Llavaneres
COMMENT:Preu: 5 &euro;
Durada: 1h 30'
DESCRIPTION:Una comèdia de Juan José Alonso Millán
URL:https://ajllavaneres.cat/document.php?id=23083
END:VEVENT
END:VCALENDAR