BEGIN:VCALENDAR
VERSION:2.0
PRODID:-//Plone.org//NONSGML plone.app.event//EN
X-WR-TIMEZONE:Europe/Madrid
BEGIN:VEVENT
SUMMARY:4a Nit de Por
DTSTART;TZID=Europe/Madrid;VALUE=DATE-TIME:20071026T213000
DTEND;TZID=Europe/Madrid;VALUE=DATE-TIME:20071026T223000
DTSTAMP;VALUE=DATE-TIME:20260422T174426Z
UID:610d40cb83ff8e7ea3925538485290ec
CREATED;VALUE=DATE-TIME:20071026T000000Z
LOCATION:Font de la Llorita
ORGANIZER:Acció Juvenil, amb la col·laboració de la Regidoria de Joventut
COMMENT:Preu: 3,5 &euro;
DESCRIPTION:Marxa terrorífica pel mig del bosc
URL:https://ajllavaneres.cat/document.php?id=231
END:VEVENT
END:VCALENDAR