BEGIN:VCALENDAR
VERSION:2.0
PRODID:-//Plone.org//NONSGML plone.app.event//EN
X-WR-TIMEZONE:Europe/Madrid
BEGIN:VEVENT
SUMMARY:Taula rodona
DTSTART;TZID=Europe/Madrid;VALUE=DATE-TIME:20250620T190000
DTEND;TZID=Europe/Madrid;VALUE=DATE-TIME:20250620T200000
DTSTAMP;VALUE=DATE-TIME:20260423T131447Z
UID:21f1f41fd23f1158f67d58ee45cc0aba
CREATED;VALUE=DATE-TIME:20250620T000000Z
CATEGORIES:Festa,Conferència
LOCATION:El Casal de Llavaneres - Avinguda de Catalunya, 56
ORGANIZER:El Casal de Llavaneres - Colla Gegantera
COMMENT:Preu: Gratuït
DESCRIPTION:Acte institucional de presentació de la restauració dels Gegants Vells
URL:https://ajllavaneres.cat/document.php?id=23118
END:VEVENT
END:VCALENDAR