BEGIN:VCALENDAR
VERSION:2.0
PRODID:-//Plone.org//NONSGML plone.app.event//EN
X-WR-TIMEZONE:Europe/Madrid
BEGIN:VEVENT
SUMMARY:Diumenge de Rams
DTSTART;TZID=Europe/Madrid;VALUE=DATE-TIME:20250407T110000
DTEND;TZID=Europe/Madrid;VALUE=DATE-TIME:20250407T120000
DTSTAMP;VALUE=DATE-TIME:20260425T012935Z
UID:3a153d8832bb0ee39325654f98229fe1
CREATED;VALUE=DATE-TIME:20250407T000000Z
CATEGORIES:Festa,Trobada
LOCATION:Temple parroquial - Carrer de Munt
ORGANIZER:Parròquia de Sant Andreu de Llavaneres
URL:https://ajllavaneres.cat/document.php?id=23155
END:VEVENT
END:VCALENDAR