BEGIN:VCALENDAR
VERSION:2.0
PRODID:-//Plone.org//NONSGML plone.app.event//EN
X-WR-TIMEZONE:Europe/Madrid
BEGIN:VEVENT
SUMMARY:Campanya de donació de sang
DTSTART;TZID=Europe/Madrid;VALUE=DATE-TIME:20250430T170000
DTEND;TZID=Europe/Madrid;VALUE=DATE-TIME:20250430T180000
DTSTAMP;VALUE=DATE-TIME:20260425T025948Z
UID:c09b4378ac889f446c74249092f95a21
CREATED;VALUE=DATE-TIME:20250430T000000Z
LOCATION:Sala d'actes de la Biblioteca Font i Daniel - Clòsens, 65
ORGANIZER:Banc de Sang i Teixits
COMMENT:Durada: De 17 a 21 hores
URL:https://ajllavaneres.cat/document.php?id=23179
END:VEVENT
END:VCALENDAR