BEGIN:VCALENDAR
VERSION:2.0
PRODID:-//Plone.org//NONSGML plone.app.event//EN
X-WR-TIMEZONE:Europe/Madrid
BEGIN:VEVENT
SUMMARY:Inscripcions presencials Casal d'Estiu 2025
DTSTART;TZID=Europe/Madrid;VALUE=DATE-TIME:20250523T100000
DTEND;TZID=Europe/Madrid;VALUE=DATE-TIME:20250523T110000
DTSTAMP;VALUE=DATE-TIME:20260419T204332Z
UID:7ee2d88705866d831b86f38838a947b5
CREATED;VALUE=DATE-TIME:20250521T000000Z
CATEGORIES:Esports,Cursos,Infantils
LOCATION:Sala de plens de l'Ajuntament - Plaça de la Vila, 1
ORGANIZER:Regidoria d'Educació i ANNCON Lleure
COMMENT:Durada: Del 21 al 23 de maig, de 10 a 14 h
DESCRIPTION:Inscripcions presencials a l'Ajuntament de Sant Andreu de Llavaneres
URL:https://ajllavaneres.cat/document.php?id=23260
END:VEVENT
END:VCALENDAR