BEGIN:VCALENDAR
VERSION:2.0
PRODID:-//Plone.org//NONSGML plone.app.event//EN
X-WR-TIMEZONE:Europe/Madrid
BEGIN:VEVENT
SUMMARY:Dinàmica Drag: 'Expressa la teva identitat amb estil'
DTSTART;TZID=Europe/Madrid;VALUE=DATE-TIME:20250620T180000
DTEND;TZID=Europe/Madrid;VALUE=DATE-TIME:20250620T190000
DTSTAMP;VALUE=DATE-TIME:20260423T094044Z
UID:4ed3ec221d397bcad4f72e683f10a81e
CREATED;VALUE=DATE-TIME:20250620T000000Z
CATEGORIES:Reunió,Trobada
LOCATION:Casal Jove - Passeig Mare de Deu de Montserrat, 45
ORGANIZER:Casal Jove. Regidoria de Joventut.
COMMENT:Preu: gratuït
Durada: 2 hores
DESCRIPTION:Explora el món del drag i la llibertat d'expressió de gènere!
URL:https://ajllavaneres.cat/document.php?id=23289
END:VEVENT
END:VCALENDAR