BEGIN:VCALENDAR
VERSION:2.0
PRODID:-//Plone.org//NONSGML plone.app.event//EN
X-WR-TIMEZONE:Europe/Madrid
BEGIN:VEVENT
SUMMARY:Torneig d'escacs al Casal Jove
DTSTART;TZID=Europe/Madrid;VALUE=DATE-TIME:20250626T180000
DTEND;TZID=Europe/Madrid;VALUE=DATE-TIME:20250626T190000
DTSTAMP;VALUE=DATE-TIME:20260422T225855Z
UID:598d39aac119bf264f0ace946d9e6217
CREATED;VALUE=DATE-TIME:20250626T000000Z
CATEGORIES:Trobada
LOCATION:Casal Jove - Passeig Mare de Deu de Montserrat, 45
ORGANIZER:Casal Jove. Regidoria de Joventut.
COMMENT:Preu: gratuït
Durada: 1 hora i mitja
DESCRIPTION:Activa la ment i posa a prova la teva estratègia!
URL:https://ajllavaneres.cat/document.php?id=23293
END:VEVENT
END:VCALENDAR