BEGIN:VCALENDAR
VERSION:2.0
PRODID:-//Plone.org//NONSGML plone.app.event//EN
X-WR-TIMEZONE:Europe/Madrid
BEGIN:VEVENT
SUMMARY:Punt de Trobada Dones Impulsant Canvis
DTSTART;TZID=Europe/Madrid;VALUE=DATE-TIME:20250523T093000
DTEND;TZID=Europe/Madrid;VALUE=DATE-TIME:20250523T103000
DTSTAMP;VALUE=DATE-TIME:20260419T160056Z
UID:76250ac604421255b5b093762a63262a
CREATED;VALUE=DATE-TIME:20250523T000000Z
LOCATION:Can Rivière - Passeig Mare de Déu de Montserrat, 45
ORGANIZER:Regidoria d'Ocupació
COMMENT:Preu: Gratuit
Durada: 3 hores
DESCRIPTION:Hi assistirà la regidora d'Ocupació Annabel Martínez
URL:https://ajllavaneres.cat/document.php?id=23348
END:VEVENT
END:VCALENDAR