BEGIN:VCALENDAR
VERSION:2.0
PRODID:-//Plone.org//NONSGML plone.app.event//EN
X-WR-TIMEZONE:Europe/Madrid
BEGIN:VEVENT
SUMMARY:Festa Holi 'Llavaneres amb Orgull' i lectura del manifest
DTSTART;TZID=Europe/Madrid;VALUE=DATE-TIME:20250627T180000
DTEND;TZID=Europe/Madrid;VALUE=DATE-TIME:20250627T190000
DTSTAMP;VALUE=DATE-TIME:20260423T151712Z
UID:7962e4f4386a31e70a35fc3aec071df7
CREATED;VALUE=DATE-TIME:20250627T000000Z
CATEGORIES:Festa,Infantils,Taller
LOCATION:Parc de Ca l'Alfaro - Passeig de la Mare de Déu de Montserrat, 27-33
ORGANIZER:Regidoria d'Igualtat. Hi col·labora Gim Llavaneres i Associació Violeta
COMMENT:Preu: gratuït
Durada: de 18 a 22 h
DESCRIPTION:Una tarda plena de colors, música i diversitat per celebrar l'Orgull LGBTI+
URL:https://ajllavaneres.cat/document.php?id=23352
END:VEVENT
END:VCALENDAR