BEGIN:VCALENDAR
VERSION:2.0
PRODID:-//Plone.org//NONSGML plone.app.event//EN
X-WR-TIMEZONE:Europe/Madrid
BEGIN:VEVENT
SUMMARY:Audició de música
DTSTART;TZID=Europe/Madrid;VALUE=DATE-TIME:20071029T191500
DTEND;TZID=Europe/Madrid;VALUE=DATE-TIME:20071029T201500
DTSTAMP;VALUE=DATE-TIME:20260419T195218Z
UID:3dfc93ee8b080e78a2de5d6ad141947f
CREATED;VALUE=DATE-TIME:20071029T000000Z
CATEGORIES:Música
LOCATION:Auditori de l'Escola Municipal de Música. Can Caralt
ORGANIZER:Escola Municipal de Música Llavaneres
DESCRIPTION:A càrrec d'alumnes de l'Escola Municipal
URL:https://ajllavaneres.cat/document.php?id=234
END:VEVENT
END:VCALENDAR