BEGIN:VCALENDAR
VERSION:2.0
PRODID:-//Plone.org//NONSGML plone.app.event//EN
X-WR-TIMEZONE:Europe/Madrid
BEGIN:VEVENT
SUMMARY:Bàsquet amb el Casal Jove
DTSTART;TZID=Europe/Madrid;VALUE=DATE-TIME:20250709T100000
DTEND;TZID=Europe/Madrid;VALUE=DATE-TIME:20250709T110000
DTSTAMP;VALUE=DATE-TIME:20260420T025943Z
UID:969c96bbf44472b82b14c34fb71b0489
CREATED;VALUE=DATE-TIME:20250709T000000Z
CATEGORIES:Esports
LOCATION:Parc de Sant Pere - Passeig de la Riera, s/n
ORGANIZER:Casal Jove. Regidoria de Joventut.
COMMENT:Preu: gratuït
Durada: 3 hores
DESCRIPTION:Veniu a jugar a basquet i a passar una bona estona!
URL:https://ajllavaneres.cat/document.php?id=23448
END:VEVENT
END:VCALENDAR