BEGIN:VCALENDAR
VERSION:2.0
PRODID:-//Plone.org//NONSGML plone.app.event//EN
X-WR-TIMEZONE:Europe/Madrid
BEGIN:VEVENT
SUMMARY:Taller de teatre
DTSTART;TZID=Europe/Madrid;VALUE=DATE-TIME:20250812T180000
DTEND;TZID=Europe/Madrid;VALUE=DATE-TIME:20250812T190000
DTSTAMP;VALUE=DATE-TIME:20260420T083927Z
UID:c7c14e4fae664ec55e7a6b2cdd4f0171
CREATED;VALUE=DATE-TIME:20250812T000000Z
CATEGORIES:Taller
LOCATION:Casal Jove - Passeig Mare de Déu de Montserrat, 45
ORGANIZER:Casal Jove. Regidoria de Joventut.
COMMENT:Preu: gratuït
Durada: 2 hores
DESCRIPTION:Veniu a fer un taller al Casal jove
URL:https://ajllavaneres.cat/document.php?id=23469
END:VEVENT
END:VCALENDAR