BEGIN:VCALENDAR
VERSION:2.0
PRODID:-//Plone.org//NONSGML plone.app.event//EN
X-WR-TIMEZONE:Europe/Madrid
BEGIN:VEVENT
SUMMARY:Matí de Cal·listènia
DTSTART;TZID=Europe/Madrid;VALUE=DATE-TIME:20250813T100000
DTEND;TZID=Europe/Madrid;VALUE=DATE-TIME:20250813T110000
DTSTAMP;VALUE=DATE-TIME:20260423T073254Z
UID:c9968beb69adbfcd675ec3e75474ce47
CREATED;VALUE=DATE-TIME:20250813T000000Z
CATEGORIES:Esports
LOCATION:Can Rivière - Passeig Mare de Déu de Montserrat, 45
ORGANIZER:Casal Jove. Regidoria de Joventut.
COMMENT:Preu: gratuït
Durada: 3 hores
DESCRIPTION:Veniu a fer una mica d'esport amb el Casal Jove!
URL:https://ajllavaneres.cat/document.php?id=23470
END:VEVENT
END:VCALENDAR