BEGIN:VCALENDAR
VERSION:2.0
PRODID:-//Plone.org//NONSGML plone.app.event//EN
X-WR-TIMEZONE:Europe/Madrid
BEGIN:VEVENT
SUMMARY:Repicada festiva de campanes: Anada a Missa
DTSTART;TZID=Europe/Madrid;VALUE=DATE-TIME:20250720T103000
DTEND;TZID=Europe/Madrid;VALUE=DATE-TIME:20250720T113000
DTSTAMP;VALUE=DATE-TIME:20260419T221848Z
UID:a60654b65731f19cf11a88e138dcba9a
CREATED;VALUE=DATE-TIME:20250720T000000Z
LOCATION:Temple parroquial - Carrer de Munt, 2
ORGANIZER:Campaners de Sant Andreu de Llavaneres
URL:https://ajllavaneres.cat/document.php?id=23539
END:VEVENT
END:VCALENDAR