BEGIN:VCALENDAR
VERSION:2.0
PRODID:-//Plone.org//NONSGML plone.app.event//EN
X-WR-TIMEZONE:Europe/Madrid
BEGIN:VEVENT
SUMMARY:Audició de música
DTSTART;TZID=Europe/Madrid;VALUE=DATE-TIME:20071219T191500
DTEND;TZID=Europe/Madrid;VALUE=DATE-TIME:20071219T201500
DTSTAMP;VALUE=DATE-TIME:20260420T051531Z
UID:df947b73232f0b27dd84ebd001242079
CREATED;VALUE=DATE-TIME:20071219T000000Z
CATEGORIES:Música
LOCATION:Auditori de l'Escola Municipal de Música. Can Caralt
ORGANIZER:Escola Municipal de Música Llavaneres
DESCRIPTION:A càrrec d'alumnes de l'Escola Municipal de Música
URL:https://ajllavaneres.cat/document.php?id=237
END:VEVENT
END:VCALENDAR