BEGIN:VCALENDAR
VERSION:2.0
PRODID:-//Plone.org//NONSGML plone.app.event//EN
X-WR-TIMEZONE:Europe/Madrid
BEGIN:VEVENT
SUMMARY:Presentació del llibre 'Secrets ofegats', de Susana Hernández
DTSTART;TZID=Europe/Madrid;VALUE=DATE-TIME:20251001T180000
DTEND;TZID=Europe/Madrid;VALUE=DATE-TIME:20251001T190000
DTSTAMP;VALUE=DATE-TIME:20260422T175457Z
UID:cd8c9a18061cea42d9c1dbcb22931b31
CREATED;VALUE=DATE-TIME:20251001T000000Z
CATEGORIES:Literatura
LOCATION:Sala d'actes de la Biblioteca Font i Daniel - Clòsens, 65
ORGANIZER:Biblioteca Municipal Font i Daniel; Regidoria de Cultura
COMMENT:Preu: Gratuït
Durada: 1 hora
URL:https://ajllavaneres.cat/document.php?id=23901
END:VEVENT
END:VCALENDAR