BEGIN:VCALENDAR
VERSION:2.0
PRODID:-//Plone.org//NONSGML plone.app.event//EN
X-WR-TIMEZONE:Europe/Madrid
BEGIN:VEVENT
SUMMARY:Rockbató
DTSTART;TZID=Europe/Madrid;VALUE=DATE-TIME:20250830T213000
DTEND;TZID=Europe/Madrid;VALUE=DATE-TIME:20250830T223000
DTSTAMP;VALUE=DATE-TIME:20260423T090625Z
UID:ac8bf3964f96be5baf5214e00e7cc602
CREATED;VALUE=DATE-TIME:20250830T000000Z
CATEGORIES:Música
LOCATION:Casa de Cultura Massorrà
COMMENT:Preu: Gratuit
DESCRIPTION:Dins del cicle 'Massorrà en Viu'
URL:https://ajllavaneres.cat/document.php?id=23938
END:VEVENT
END:VCALENDAR