BEGIN:VCALENDAR
VERSION:2.0
PRODID:-//Plone.org//NONSGML plone.app.event//EN
X-WR-TIMEZONE:Europe/Madrid
BEGIN:VEVENT
SUMMARY:Fira de la Coca de Llavaneres: 'market' de tardor i espai gastronòmic
DTSTART;TZID=Europe/Madrid;VALUE=DATE-TIME:20251005T100000
DTEND;TZID=Europe/Madrid;VALUE=DATE-TIME:20251005T110000
DTSTAMP;VALUE=DATE-TIME:20260420T012633Z
UID:dd11fff395a371a281ede7758111e0bd
CREATED;VALUE=DATE-TIME:20251005T000000Z
CATEGORIES:Festa,Infantils,Trobada
LOCATION:Parc de Ca l'Alfaro - Passeig de la Mare de Déu de Montserrat, 27-33
ORGANIZER:Regidoria de Promoció Econòmica, Empresa, Comerç, Turisme i Consum.
COMMENT:Durada: Fins a les 16 h
DESCRIPTION:Fira de tardor i espai gastronòmic
URL:https://ajllavaneres.cat/document.php?id=24040
END:VEVENT
END:VCALENDAR