BEGIN:VCALENDAR
VERSION:2.0
PRODID:-//Plone.org//NONSGML plone.app.event//EN
X-WR-TIMEZONE:Europe/Madrid
BEGIN:VEVENT
SUMMARY:Descobreix els secrets de la Coca i el Pèsol de Llavaneres
DTSTART;TZID=Europe/Madrid;VALUE=DATE-TIME:20251005T110000
DTEND;TZID=Europe/Madrid;VALUE=DATE-TIME:20251005T120000
DTSTAMP;VALUE=DATE-TIME:20260419T190455Z
UID:2969280c94cc34752ec68b64cad00b89
CREATED;VALUE=DATE-TIME:20251004T000000Z
CATEGORIES:Exposició,Trobada
LOCATION:Parc de Ca l'Alfaro - Passeig de la Mare de Déu de Montserrat, 27-33
ORGANIZER:Regidoria de Promoció Econòmica, Empresa, Comerç, Turisme i Consum
COMMENT:Preu: Gratuït
Durada: D'11 a 14 h
DESCRIPTION:Projecció dels reportatges a Ca l'Alfaro
URL:https://ajllavaneres.cat/document.php?id=24065
END:VEVENT
END:VCALENDAR