BEGIN:VCALENDAR
VERSION:2.0
PRODID:-//Plone.org//NONSGML plone.app.event//EN
X-WR-TIMEZONE:Europe/Madrid
BEGIN:VEVENT
SUMMARY:Gerard Mallorquí - 'La cançó més bonica del món'
DTSTART;TZID=Europe/Madrid;VALUE=DATE-TIME:20251004T110000
DTEND;TZID=Europe/Madrid;VALUE=DATE-TIME:20251004T120000
DTSTAMP;VALUE=DATE-TIME:20260419T141924Z
UID:d947187d3a30df6efb9a0f486a4082d2
CREATED;VALUE=DATE-TIME:20251004T000000Z
CATEGORIES:Infantils,Música
LOCATION:Parc de Ca l'Alfaro - Passeig de la Mare de Déu de Montserrat, 27-33
ORGANIZER:Promoció Economica, Empresa, Comerç, Turisme i Consum
URL:https://ajllavaneres.cat/document.php?id=24067
END:VEVENT
END:VCALENDAR