BEGIN:VCALENDAR
VERSION:2.0
PRODID:-//Plone.org//NONSGML plone.app.event//EN
X-WR-TIMEZONE:Europe/Madrid
BEGIN:VEVENT
SUMMARY:L'hora del conte: 'Contes d'ocells dins d'un cistell'
DTSTART;TZID=Europe/Madrid;VALUE=DATE-TIME:20251004T170000
DTEND;TZID=Europe/Madrid;VALUE=DATE-TIME:20251004T180000
DTSTAMP;VALUE=DATE-TIME:20260422T132822Z
UID:27ba039aedb204983b952837b4a22468
CREATED;VALUE=DATE-TIME:20251004T000000Z
CATEGORIES:Festa,Infantils,Trobada
LOCATION:Parc de Ca l'Alfaro - Passeig de la Mare de Déu de Montserrat, 27-33
ORGANIZER:Regidoria de Promoció Econòmica, Empresa, Comerç, Turisme i Consum.
COMMENT:Durada: De 17 a 18 h.
DESCRIPTION:A càrrec d'Alma i la Mar de Contes
URL:https://ajllavaneres.cat/document.php?id=24070
END:VEVENT
END:VCALENDAR