BEGIN:VCALENDAR
VERSION:2.0
PRODID:-//Plone.org//NONSGML plone.app.event//EN
X-WR-TIMEZONE:Europe/Madrid
BEGIN:VEVENT
SUMMARY:Exposició BICIA'T
DTSTART;TZID=Europe/Madrid;VALUE=DATE-TIME:20070929T103000
DTEND;TZID=Europe/Madrid;VALUE=DATE-TIME:20070929T113000
DTSTAMP;VALUE=DATE-TIME:20260419T161916Z
UID:86c840e39d577c6e251c522338a94d4d
CREATED;VALUE=DATE-TIME:20070929T000000Z
CATEGORIES:Exposició
LOCATION:Plaça de la Vila
ORGANIZER:Ajuntament de Llavaneres
COMMENT:Durada: Fins diumenge 30
DESCRIPTION:Plafons informatius per promoure l'ús de la bicicleta
URL:https://ajllavaneres.cat/document.php?id=242
END:VEVENT
END:VCALENDAR