BEGIN:VCALENDAR
VERSION:2.0
PRODID:-//Plone.org//NONSGML plone.app.event//EN
X-WR-TIMEZONE:Europe/Madrid
BEGIN:VEVENT
SUMMARY:XXXV Exposició col·lectiva d'artistes locals
DTSTART;TZID=Europe/Madrid;VALUE=DATE-TIME:20251214T190000
DTEND;TZID=Europe/Madrid;VALUE=DATE-TIME:20251214T200000
DTSTAMP;VALUE=DATE-TIME:20260420T114258Z
UID:362cb843f872fac5f159f56d544aa9d1
CREATED;VALUE=DATE-TIME:20251128T000000Z
LOCATION:Sala d'exposicions d'El Casal de Llavaneres. Espai Joaquim Bertran - Avinguda de Catalunya, 56
ORGANIZER:El Casal de Llavaneres
COMMENT:Durada: Tots els dies, de 17.30 a 20 h, fins al 14 de desembre.
URL:https://ajllavaneres.cat/document.php?id=24236
END:VEVENT
END:VCALENDAR