BEGIN:VCALENDAR
VERSION:2.0
PRODID:-//Plone.org//NONSGML plone.app.event//EN
X-WR-TIMEZONE:Europe/Madrid
BEGIN:VEVENT
SUMMARY:BiblioLab: 'Coloms, Violetes i Màquines intel·ligents. Co-Creant amb sistemes No Humans'
DTSTART;TZID=Europe/Madrid;VALUE=DATE-TIME:20251209T170000
DTEND;TZID=Europe/Madrid;VALUE=DATE-TIME:20251209T180000
DTSTAMP;VALUE=DATE-TIME:20260419T173155Z
UID:2859e6ecc3436794a312e9433b787da5
CREATED;VALUE=DATE-TIME:20251209T000000Z
CATEGORIES:Infantils
LOCATION:Sala d'actes de la Biblioteca Font i Daniel - Clòsens, 65
ORGANIZER:Biblioteca Municipal; Diputació de Barcelona;
COMMENT:Preu: Gratuït
Durada: 1 h 30 min
DESCRIPTION:Per a infants d'11 a 14 anys
URL:https://ajllavaneres.cat/document.php?id=24379
END:VEVENT
END:VCALENDAR